BEGIN:VCALENDAR
VERSION:2.0
PRODID:-//Mullica Hill - ECPv6.15.20//NONSGML v1.0//EN
CALSCALE:GREGORIAN
METHOD:PUBLISH
X-WR-CALNAME:Mullica Hill
X-ORIGINAL-URL:https://mullicahill.com
X-WR-CALDESC:Events for Mullica Hill
REFRESH-INTERVAL;VALUE=DURATION:PT1H
X-Robots-Tag:noindex
X-PUBLISHED-TTL:PT1H
BEGIN:VTIMEZONE
TZID:America/New_York
BEGIN:DAYLIGHT
TZOFFSETFROM:-0500
TZOFFSETTO:-0400
TZNAME:EDT
DTSTART:20230312T070000
END:DAYLIGHT
BEGIN:STANDARD
TZOFFSETFROM:-0400
TZOFFSETTO:-0500
TZNAME:EST
DTSTART:20231105T060000
END:STANDARD
BEGIN:DAYLIGHT
TZOFFSETFROM:-0500
TZOFFSETTO:-0400
TZNAME:EDT
DTSTART:20240310T070000
END:DAYLIGHT
BEGIN:STANDARD
TZOFFSETFROM:-0400
TZOFFSETTO:-0500
TZNAME:EST
DTSTART:20241103T060000
END:STANDARD
BEGIN:DAYLIGHT
TZOFFSETFROM:-0500
TZOFFSETTO:-0400
TZNAME:EDT
DTSTART:20250309T070000
END:DAYLIGHT
BEGIN:STANDARD
TZOFFSETFROM:-0400
TZOFFSETTO:-0500
TZNAME:EST
DTSTART:20251102T060000
END:STANDARD
END:VTIMEZONE
BEGIN:VEVENT
DTSTART;TZID=America/New_York:20240511T100000
DTEND;TZID=America/New_York:20240511T170000
DTSTAMP:20260422T064138
CREATED:20240321T194022Z
LAST-MODIFIED:20240509T195004Z
UID:10000004-1715421600-1715446800@mullicahill.com
SUMMARY:MH Arts and Crafts Festival
DESCRIPTION:You are cordially invited to join us for the Mullica Hill Arts and Crafts Festival on May 11th from 10 am to 5 pm. In case of rain\, the event will be held on May 12th. We look forward to a day filled with fun\, delicious food\, and a variety of vendors.\nWe are delighted to showcase a diverse range of talented artists working in various mediums such as upcycling\, painting\, sculpture\, photography\, and pottery. In addition to the art exhibits\, there will be food trucks offering a variety of culinary delights\, live music performances\, engaging children’s activities\, and much more. If you are interested in participating as a vendor or food truck\, please contact the Mullica Hill Business Association at mullicahillma@gmail.com or the Mullica Hill Art Center at mullicahillartcenter@gmail.com to obtain the registration form.\nPlease note that neither the Mullica Hill Art Center nor the Mullica Hill Business Association will be held responsible for any financial transactions made with individuals not officially associated with this event. We hope to see you there and look forward to celebrating the arts and crafts community together.
URL:https://mullicahill.com/event/mh-arts-and-crafts-festival/
LOCATION:The Mullica Hill Art Center\, 204 N Main Street\, Mullica Hill\, NJ\, 08062\, United States
ATTACH;FMTTYPE=image/webp:https://mullicahill.com/wp-content/uploads/2024/03/artsandcrafts.webp
END:VEVENT
BEGIN:VEVENT
DTSTART;TZID=America/New_York:20240512T110000
DTEND;TZID=America/New_York:20240512T150000
DTSTAMP:20260422T064138
CREATED:20250616T010050Z
LAST-MODIFIED:20240326T123102Z
UID:10000009-1715511600-1715526000@mullicahill.com
SUMMARY:Moms on Main
DESCRIPTION:We\, at Main Street shops in Mullica Hill\, would like to extend a cordial invitation to you and your family to join us for a delightful holiday celebration on May 12th from 11 am to 3 pm. We have meticulously curated a diverse array of family-friendly activities\, exclusive sales\, and delectable culinary offerings\, all designed to ensure a memorable and enjoyable experience for all attendees.
URL:https://mullicahill.com/event/3242/
LOCATION:Main Street Mullica Hill\, Main Street\, Mullica Hill\, NJ\, 08062\, United States
ATTACH;FMTTYPE=image/png:https://mullicahill.com/wp-content/uploads/2024/03/Untitled-design1.png
END:VEVENT
BEGIN:VEVENT
DTSTART;TZID=America/New_York:20240528T063000
DTEND;TZID=America/New_York:20240528T210000
DTSTAMP:20260422T064138
CREATED:20240321T201743Z
LAST-MODIFIED:20240321T220955Z
UID:10000006-1716877800-1716930000@mullicahill.com
SUMMARY:MHBA Summer Member Meeting
DESCRIPTION:This meeting is for Mullica Hill business owners. If you own a licensed business in town and are interested in joining\, please attend the meeting. We would love to hear your ideas and share ours for the upcoming year! We will be covering summer events\, third Thursdays\, website updates\, Harrison Twp Day\, and more. Officials will be present to report township information. We hope that you can join us.
URL:https://mullicahill.com/event/mhba-summer-member-meeting/
LOCATION:The American Legion Hall\, 141 N Main Street\, Mullica Hill\, NJ\, 08062\, United States
ATTACH;FMTTYPE=image/webp:https://mullicahill.com/wp-content/uploads/2024/03/summer_member_meeting.webp
END:VEVENT
END:VCALENDAR