BEGIN:VCALENDAR
VERSION:2.0
PRODID:-//Mullica Hill - ECPv6.15.20//NONSGML v1.0//EN
CALSCALE:GREGORIAN
METHOD:PUBLISH
X-WR-CALNAME:Mullica Hill
X-ORIGINAL-URL:https://mullicahill.com
X-WR-CALDESC:Events for Mullica Hill
REFRESH-INTERVAL;VALUE=DURATION:PT1H
X-Robots-Tag:noindex
X-PUBLISHED-TTL:PT1H
BEGIN:VTIMEZONE
TZID:America/New_York
BEGIN:DAYLIGHT
TZOFFSETFROM:-0500
TZOFFSETTO:-0400
TZNAME:EDT
DTSTART:20220313T070000
END:DAYLIGHT
BEGIN:STANDARD
TZOFFSETFROM:-0400
TZOFFSETTO:-0500
TZNAME:EST
DTSTART:20221106T060000
END:STANDARD
BEGIN:DAYLIGHT
TZOFFSETFROM:-0500
TZOFFSETTO:-0400
TZNAME:EDT
DTSTART:20230312T070000
END:DAYLIGHT
BEGIN:STANDARD
TZOFFSETFROM:-0400
TZOFFSETTO:-0500
TZNAME:EST
DTSTART:20231105T060000
END:STANDARD
BEGIN:DAYLIGHT
TZOFFSETFROM:-0500
TZOFFSETTO:-0400
TZNAME:EDT
DTSTART:20240310T070000
END:DAYLIGHT
BEGIN:STANDARD
TZOFFSETFROM:-0400
TZOFFSETTO:-0500
TZNAME:EST
DTSTART:20241103T060000
END:STANDARD
BEGIN:DAYLIGHT
TZOFFSETFROM:-0500
TZOFFSETTO:-0400
TZNAME:EDT
DTSTART:20250309T070000
END:DAYLIGHT
BEGIN:STANDARD
TZOFFSETFROM:-0400
TZOFFSETTO:-0500
TZNAME:EST
DTSTART:20251102T060000
END:STANDARD
BEGIN:DAYLIGHT
TZOFFSETFROM:-0500
TZOFFSETTO:-0400
TZNAME:EDT
DTSTART:20260308T070000
END:DAYLIGHT
BEGIN:STANDARD
TZOFFSETFROM:-0400
TZOFFSETTO:-0500
TZNAME:EST
DTSTART:20261101T060000
END:STANDARD
END:VTIMEZONE
BEGIN:VEVENT
DTSTART;TZID=America/New_York:20250607T080000
DTEND;TZID=America/New_York:20250607T170000
DTSTAMP:20260421T043940
CREATED:20250421T121430Z
LAST-MODIFIED:20250421T121430Z
UID:10000022-1749283200-1749315600@mullicahill.com
SUMMARY:Harrison Township Day
DESCRIPTION:Annual Community Day at Ella Harris Park
URL:https://mullicahill.com/event/harrison-township-day/
LOCATION:NJ
END:VEVENT
BEGIN:VEVENT
DTSTART;TZID=America/New_York:20250605T080000
DTEND;TZID=America/New_York:20250605T170000
DTSTAMP:20260421T043940
CREATED:20250605T123458Z
LAST-MODIFIED:20250605T130441Z
UID:10000027-1749110400-1749142800@mullicahill.com
SUMMARY:The Yellow Garage Antiques
DESCRIPTION:The Yellow Garage Antiques Center\, in collaboration with the Harrison Township Historical Society\, is proud to present the The Annual June Festival of Antiques At The Fairgrounds.The show will feature quality antiques dealers from throughout the Northeast set up in an outdoor setting\, under pavilion cover\, and on the lawn at the Gloucester County 4-H Fairgrounds.   \nThis is one mile south of the Yellow Garage Antiques storefront and the Mullica Hill downtown historic district.\nThe show will include antique country and formal furniture\, pottery\, fine art\, glass\, stoneware\, textiles\, quilts\, dolls\, Americana\, jewelry\, clocks\, porcelain\, sterling\, toys\, advertising\, metalware\, and much more.Parking is free of charge and a food truck by B & B Concessions will be available throughout the day. Visitors can also shop and enjoy The Yellow Garage Antiques Center\, as well as other antiques and specialty shops on Main Street in Mullica Hill.   \nThe Festival is scheduled to take place rain or shine; however\, in the event of “severe weather”\, status updates will be announced on Facebook\, Instagram\, and www.yellowgarageantiques.com.A portion of the proceeds benefit the Harrison Township Historical Society. \n Attendees are encouraged to donate non-perishable un-expired food items for the local food pantry – “Your Place At The Table” (Y.P.A.T.T)While downtown\, be sure to visit the Old Town Hall Museum to experience the Harrison Twp. Historical Society Exhibit – “Last Call Taverns & Temperance” which explores historic taverns\, the temperance movement\, distilleries\, wineries\, prohibition\, and repeal through various media and artifacts.
URL:https://mullicahill.com/event/the-yellow-garage-antiques/
LOCATION:NJ
ATTACH;FMTTYPE=image/jpeg:https://mullicahill.com/wp-content/uploads/2025/06/691053023931741357.jpg
END:VEVENT
BEGIN:VEVENT
DTSTART;TZID=America/New_York:20250510T100000
DTEND;TZID=America/New_York:20250510T160000
DTSTAMP:20260421T043940
CREATED:20250421T120728Z
LAST-MODIFIED:20250421T120728Z
UID:10000021-1746871200-1746892800@mullicahill.com
SUMMARY:Makers Market
DESCRIPTION:Artisan Vendors – Crafts\, Jewelry\, Self Care\, Wellness\, Food & Beverages
URL:https://mullicahill.com/event/makers-market-2/
LOCATION:NJ
ATTACH;FMTTYPE=image/webp:https://mullicahill.com/wp-content/uploads/2025/03/SCR-20250321-squt.webp
END:VEVENT
BEGIN:VEVENT
DTSTART;TZID=America/New_York:20250510T100000
DTEND;TZID=America/New_York:20250510T160000
DTSTAMP:20260421T043940
CREATED:20250321T133407Z
LAST-MODIFIED:20250321T134302Z
UID:10000015-1746871200-1746892800@mullicahill.com
SUMMARY:Makers Market
DESCRIPTION:We invite you to attend our Makers Market on May 10th\, from 10:00 a.m. to 4:00 p.m. This event offers an excellent opportunity to explore handmade goods from artisans specializing in crafts\, self-care\, wellness products\, and food and beverages. Vendor offerings will be complemented by diverse food trucks\, engaging children’s activities\, and other attractions. \nIf you are interested in participating as a vendor or with a food truck\, please contact the Mullica Hill Business Association at mullicahillma@gmail.com. \nPlease note that the Mullica Hill Business Association will not be held responsible for any financial transactions made with individuals not officially associated with this event. \nWe look forward to seeing you there and celebrating the artisans from our community together. \nhttps://www.facebook.com/share/15wKubCVS6/
URL:https://mullicahill.com/event/makers-market/
LOCATION:NJ
CATEGORIES:All Events
ATTACH;FMTTYPE=image/webp:https://mullicahill.com/wp-content/uploads/2025/03/SCR-20250321-squt.webp
END:VEVENT
BEGIN:VEVENT
DTSTART;TZID=America/New_York:20250427T120000
DTEND;TZID=America/New_York:20250427T170000
DTSTAMP:20260421T043940
CREATED:20250325T171801Z
LAST-MODIFIED:20250325T171801Z
UID:10000018-1745755200-1745773200@mullicahill.com
SUMMARY:Swing into Spring-Downtown Derby
DESCRIPTION:We cordially invite you to our second event of 2025\, the “Swing into Spring-Downtown Derby\,” following our Chocolate Walk. We hope you’ll join us and support our Main Street in Mullica Hill. \nWe are delighted to invite you to celebrate spring’s arrival on Main Street\, Mullica Hill\, on April 26th\, from 12 p.m. to 5 p.m. This year’s event is themed “Downtown Derby.” \nUpon arrival\, please register at D-Signed For You (45 S. Main Street\, Mullica Hill) or Sew Sassy (19 S. Main Street) to receive your passport and a complimentary Derby hat (for the first 75 guests). Then\, visit participating shops to collect embellishments for your hat. D-Signed For You and Sew Sassy will assist you in creating your perfect Derby hat. \nPhoto opportunities will be available along Main Street. \nChildren’s activities\, including games\, a bounce house\, and face painting\, will be provided. \nWe kindly request that you support our Main Street businesses. Also\, please enjoy the food and drink options available in Mullica Hill.
URL:https://mullicahill.com/event/swing-into-spring-downtown-derby/
LOCATION:NJ
CATEGORIES:All Events
ATTACH;FMTTYPE=image/webp:https://mullicahill.com/wp-content/uploads/2025/03/Screenshot-2025-03-24-at-3.15.18-PM.webp
END:VEVENT
BEGIN:VEVENT
DTSTART;TZID=America/New_York:20250426T120000
DTEND;TZID=America/New_York:20250426T170000
DTSTAMP:20260421T043940
CREATED:20250421T120217Z
LAST-MODIFIED:20250421T120217Z
UID:10000020-1745668800-1745686800@mullicahill.com
SUMMARY:Swing Into Spring
DESCRIPTION:Raindate April 27th\nCreate a Derby Hat\, Family Fun Activities\nShop Local
URL:https://mullicahill.com/event/swing-into-spring/
LOCATION:NJ
ATTACH;FMTTYPE=image/webp:https://mullicahill.com/wp-content/uploads/2025/03/Screenshot-2025-03-24-at-3.15.18-PM.webp
END:VEVENT
BEGIN:VEVENT
DTSTART;TZID=America/New_York:20250208T160000
DTEND;TZID=America/New_York:20250208T200000
DTSTAMP:20260421T043940
CREATED:20250114T110903Z
LAST-MODIFIED:20250114T112655Z
UID:10000014-1739030400-1739044800@mullicahill.com
SUMMARY:8th Annual Chocolate Walk in Mullica Hill
DESCRIPTION:Saturday\, February 8th\, from 4:00 PM to 8:00 PM\, we cordially invite you to our 8th Annual Chocolate Walk in Mullica Hill. Enjoy an evening of delectable treats from local businesses\, creating a memorable experience with loved ones. \nCheck-in will be at 19 S. Main Street (@SerendipityXIX). Three check-in times are available\, each with 125 tickets: 4:00 PM\, 5:00 PM\, and 6:00 PM. \nPlease arrive within your selected hour. Each participating location will offer chocolate tastings. \nThis event provides a unique and enjoyable alternative to traditional Valentine’s Day celebrations\, incorporating food and photo opportunities. Children are welcome; however\, each participant requires a passport to sample treats\, and stroller accessibility may be limited at some locations. \nThe ticket cost is $15.00 per person\, increasing to $20.00 on the day of the event. Tickets are non-refundable. This event has sold out annually; please secure your tickets promptly. \n  \nhttps://www.ticketleap.events/tickets/wwwmullicahillcom/mullica-hill-chocolate-walk-2025 \n  \nSubmit your Chocolate Walk Passport\, indicating all participating locations. On the reverse side\, please provide your name and phone number for entry into the Mullica Hill Business Association Gift Basket drawing. \nParking is available along South Main Street and at 18 South Main Street church parking lot.The outdoor restroom is available at the check-in location\, 19 South Main Street.Several participating businesses will offer special sales We anticipate your attendance.Please contact us with any inquiries. \n  \n 
URL:https://mullicahill.com/event/8th-annual-chocolate-walk-in-mullica-hill/
LOCATION:19 S. Main Street (@SerendipityXIX)\, Main Street\, Mullica Hill\, NJ\, 08962\, United States
ATTACH;FMTTYPE=image/jpeg:https://mullicahill.com/wp-content/uploads/2025/01/Chocolate-Walks.jpg
END:VEVENT
BEGIN:VEVENT
DTSTART;TZID=America/New_York:20241123T110000
DTEND;TZID=America/New_York:20241123T160000
DTSTAMP:20260421T043940
CREATED:20240724T180343Z
LAST-MODIFIED:20240724T180343Z
UID:10000010-1732359600-1732377600@mullicahill.com
SUMMARY:Merry Market
DESCRIPTION:We cordially invite you to join us for the Merry Market on November 23rd from 11 a.m. to 4 p.m. In the event of inclement weather\, the new date will be November 24th. \nThis event is an ideal opportunity to kick off your holiday shopping with our artisan vendors. They will offer a diverse range of handmade giftable items\, including soaps\, candles\, jewelry\, food\, and much more. \nAdditionally\, there will be music from our traveling carolers to enhance the festive atmosphere and a photo opportunity with Santa!If you are interested in participating as a handmade artisan or food vendor/ food truck\, please contact the Mullica Hill Business Association at mullicahillma@gmail.com to obtain the registration form.Please note that the Mullica Hill Business Association will not be held responsible for any financial transactions made with individuals not officially associated with this event. \nWe look forward to seeing you there and celebrating the artisans from our community together.
URL:https://mullicahill.com/event/merry-market/
LOCATION:Artisan Market
ATTACH;FMTTYPE=image/webp:https://mullicahill.com/wp-content/uploads/2024/07/123_1-1-1.webp
END:VEVENT
BEGIN:VEVENT
DTSTART;VALUE=DATE:20241101
DTEND;VALUE=DATE:20241130
DTSTAMP:20260421T043940
CREATED:20241105T142524Z
LAST-MODIFIED:20241105T142524Z
UID:10000013-1730419200-1732924799@mullicahill.com
SUMMARY:Pink Fridays
DESCRIPTION:We cordially invite you to our upcoming Pink Fridays event\, which will take place on the first four Fridays of November. South Main Street participating businesses will extend their operating hours until 7pm\, offering special sales and giveaways. We encourage all attendees to wear pink on Fridays to demonstrate their support for our local business community. These events are specifically designed to promote holiday shopping at our local small businesses.
URL:https://mullicahill.com/event/pink-fridays/
LOCATION:NJ
CATEGORIES:All Events
ATTACH;FMTTYPE=image/jpeg:https://mullicahill.com/wp-content/uploads/2024/11/IMG_4879.jpg
END:VEVENT
BEGIN:VEVENT
DTSTART;TZID=America/New_York:20241017T170000
DTEND;TZID=America/New_York:20241017T200000
DTSTAMP:20260421T043940
CREATED:20250616T001104Z
LAST-MODIFIED:20240724T180500Z
UID:10000007-1729184400-1729195200@mullicahill.com
SUMMARY:Trick-or-Treat on Main Street
DESCRIPTION:Join us for a delightful third Thursday event in Mullica Hill on October 17th from 5 pm to 8 pm. \nThis family-friendly occasion invites you to embark on a trick-or-treating adventure along Main Street. Each participating business on South Main Street will generously distribute Halloween treats\, ensuring a memorable experience for you and your family. \nIn addition to the sweet treats\, you can also take advantage of exclusive shopping discounts\, savor delicious food and refreshments\, engage in creative craft activities\, capture cherished moments at photo opportunities\, and explore a variety of other engaging activities. \nWe eagerly anticipate your presence at this enchanting event\, where you can immerse yourselves in the spirit of Halloween and forge lasting memories with your loved ones!
URL:https://mullicahill.com/event/trick-or-treat-on-main/
LOCATION:Main Street Mullica Hill\, Main Street\, Mullica Hill\, NJ\, 08062\, United States
ATTACH;FMTTYPE=image/webp:https://mullicahill.com/wp-content/uploads/2024/05/123_1-1.webp
END:VEVENT
BEGIN:VEVENT
DTSTART;TZID=America/New_York:20241004T170000
DTEND;TZID=America/New_York:20241004T210000
DTSTAMP:20260421T043940
CREATED:20240913T174323Z
LAST-MODIFIED:20240913T174323Z
UID:10000012-1728061200-1728075600@mullicahill.com
SUMMARY:Sip\, Savor & Social
DESCRIPTION:We cordially invite you to join us for the second Sip\, Savor & Social event on October 4th from 5 p.m. to 9 p.m. along South Main Street in Mullica Hill. This event is intended for adults and will feature a diverse selection of beverages from local establishments such as Swedesboro Brewing Company\, DiBella Winery\, Kennedy Cellars Winery and Tasting Room\, Independent Distillery\, and Big Swig Mobile Bar. A delightful array of food options will be provided by three esteemed food trucks: Dominic’s Tavern\, Big Papa Jais BBQ\, and Reds Rolling Restaurant. Furthermore\, the event will be graced by captivating musical performances. The charming shops along Main Street will be open\, and we kindly encourage you to support our local businesses by shopping locally.
URL:https://mullicahill.com/event/sip-savor-social/
LOCATION:NJ
CATEGORIES:All Events
ATTACH;FMTTYPE=image/png:https://mullicahill.com/wp-content/uploads/2024/09/123_1.png
END:VEVENT
BEGIN:VEVENT
DTSTART;TZID=America/New_York:20240924T183000
DTEND;TZID=America/New_York:20240924T210000
DTSTAMP:20260421T043940
CREATED:20250616T002625Z
LAST-MODIFIED:20240918T162846Z
UID:10000008-1727202600-1727211600@mullicahill.com
SUMMARY:MHBA Autumn Member Meeting
DESCRIPTION:Join the Mullica Hill Business Association for our Autumn Member Meeting\nDate: September 24th\, 2024\nLocation: American Legion Hall at 141 N Main St. Mullica Hill.\nTime: 6:30 pm.\nThis meeting is for Mullica Hill business owners. If you own a licensed business in town and are interested in joining\, please attend the meeting. We would love to hear your ideas and share ours for the upcoming year! We will be covering fall events\, Trick or Treat on Main\, Taste of the Season\, website updates\, Lights on Main\, and more. Officials will be present to report township information. We hope that you can join us.
URL:https://mullicahill.com/event/mhba-autumn-member-meeting/
LOCATION:NJ
ATTACH;FMTTYPE=image/png:https://mullicahill.com/wp-content/uploads/2024/03/Untitled-design.png
END:VEVENT
BEGIN:VEVENT
DTSTART;TZID=America/New_York:20240920T170000
DTEND;TZID=America/New_York:20240920T200000
DTSTAMP:20260421T043940
CREATED:20240913T174213Z
LAST-MODIFIED:20240913T174213Z
UID:10000011-1726851600-1726862400@mullicahill.com
SUMMARY:FAMILY FUN FRIDAY
DESCRIPTION:The MHBA would like to invite you and your family to join us for a delightful evening on September 20th from 5 pm to 8 pm in Mullica Hill for our FAMILY FUN FRIDAY. The rain date has been set for September 27th. We have organized a plethora of fun-filled activities for families\, and we would be thrilled to have you be a part of it.During the evening\, you can expect to enjoy a variety of entertainment options\, including food refreshments\, character meet-and-greets\, photo opportunities\, and engaging crafts for children. We encourage you to take this opportunity to explore and support our local small businesses while you’re in town.We hope to see you there! \n#meetmeonmain
URL:https://mullicahill.com/event/family-fun-friday/
LOCATION:NJ
CATEGORIES:All Events
ATTACH;FMTTYPE=image/jpeg:https://mullicahill.com/wp-content/uploads/2024/09/123_1-2.jpeg
END:VEVENT
BEGIN:VEVENT
DTSTART;TZID=America/New_York:20240528T063000
DTEND;TZID=America/New_York:20240528T210000
DTSTAMP:20260421T043940
CREATED:20240321T201743Z
LAST-MODIFIED:20240321T220955Z
UID:10000006-1716877800-1716930000@mullicahill.com
SUMMARY:MHBA Summer Member Meeting
DESCRIPTION:This meeting is for Mullica Hill business owners. If you own a licensed business in town and are interested in joining\, please attend the meeting. We would love to hear your ideas and share ours for the upcoming year! We will be covering summer events\, third Thursdays\, website updates\, Harrison Twp Day\, and more. Officials will be present to report township information. We hope that you can join us.
URL:https://mullicahill.com/event/mhba-summer-member-meeting/
LOCATION:The American Legion Hall\, 141 N Main Street\, Mullica Hill\, NJ\, 08062\, United States
ATTACH;FMTTYPE=image/webp:https://mullicahill.com/wp-content/uploads/2024/03/summer_member_meeting.webp
END:VEVENT
BEGIN:VEVENT
DTSTART;TZID=America/New_York:20240512T110000
DTEND;TZID=America/New_York:20240512T150000
DTSTAMP:20260421T043940
CREATED:20250616T010050Z
LAST-MODIFIED:20240326T123102Z
UID:10000009-1715511600-1715526000@mullicahill.com
SUMMARY:Moms on Main
DESCRIPTION:We\, at Main Street shops in Mullica Hill\, would like to extend a cordial invitation to you and your family to join us for a delightful holiday celebration on May 12th from 11 am to 3 pm. We have meticulously curated a diverse array of family-friendly activities\, exclusive sales\, and delectable culinary offerings\, all designed to ensure a memorable and enjoyable experience for all attendees.
URL:https://mullicahill.com/event/3242/
LOCATION:Main Street Mullica Hill\, Main Street\, Mullica Hill\, NJ\, 08062\, United States
ATTACH;FMTTYPE=image/png:https://mullicahill.com/wp-content/uploads/2024/03/Untitled-design1.png
END:VEVENT
BEGIN:VEVENT
DTSTART;TZID=America/New_York:20240511T100000
DTEND;TZID=America/New_York:20240511T170000
DTSTAMP:20260421T043940
CREATED:20240321T194022Z
LAST-MODIFIED:20240509T195004Z
UID:10000004-1715421600-1715446800@mullicahill.com
SUMMARY:MH Arts and Crafts Festival
DESCRIPTION:You are cordially invited to join us for the Mullica Hill Arts and Crafts Festival on May 11th from 10 am to 5 pm. In case of rain\, the event will be held on May 12th. We look forward to a day filled with fun\, delicious food\, and a variety of vendors.\nWe are delighted to showcase a diverse range of talented artists working in various mediums such as upcycling\, painting\, sculpture\, photography\, and pottery. In addition to the art exhibits\, there will be food trucks offering a variety of culinary delights\, live music performances\, engaging children’s activities\, and much more. If you are interested in participating as a vendor or food truck\, please contact the Mullica Hill Business Association at mullicahillma@gmail.com or the Mullica Hill Art Center at mullicahillartcenter@gmail.com to obtain the registration form.\nPlease note that neither the Mullica Hill Art Center nor the Mullica Hill Business Association will be held responsible for any financial transactions made with individuals not officially associated with this event. We hope to see you there and look forward to celebrating the arts and crafts community together.
URL:https://mullicahill.com/event/mh-arts-and-crafts-festival/
LOCATION:The Mullica Hill Art Center\, 204 N Main Street\, Mullica Hill\, NJ\, 08062\, United States
ATTACH;FMTTYPE=image/webp:https://mullicahill.com/wp-content/uploads/2024/03/artsandcrafts.webp
END:VEVENT
BEGIN:VEVENT
DTSTART;TZID=America/New_York:20240420T120000
DTEND;TZID=America/New_York:20240420T170000
DTSTAMP:20260421T043940
CREATED:20240321T201520Z
LAST-MODIFIED:20240321T221902Z
UID:10000005-1713614400-1713632400@mullicahill.com
SUMMARY:Downtown Derby
DESCRIPTION:We cordially invite you to join us in celebrating the arrival of spring on Main Street in Mullica Hill. Our theme for this year’s event is “Downtown Derby.”\nWe will be offering a variety of food options\, live music\, activities\, and crafts for adults and children.\nIn the event of rain\, the event will be rescheduled for April 27th\, same time frame.
URL:https://mullicahill.com/event/downtown-derby/
LOCATION:Main Street Mullica Hill\, Main Street\, Mullica Hill\, NJ\, 08062\, United States
ATTACH;FMTTYPE=image/webp:https://mullicahill.com/wp-content/uploads/2024/03/derby.webp
END:VEVENT
BEGIN:VEVENT
DTSTART;TZID=America/New_York:20240326T183000
DTEND;TZID=America/New_York:20240326T203000
DTSTAMP:20260421T043940
CREATED:20240321T193100Z
LAST-MODIFIED:20240321T213941Z
UID:10000003-1711477800-1711485000@mullicahill.com
SUMMARY:MHBA for our Spring Member Meeting
DESCRIPTION:This meeting is for Mullica Hill business owners. If you own a licensed business in town and are interested in joining\, please attend the meeting. We would love to hear your ideas and share ours for the upcoming year! We will be covering spring events\, member registration\, our website\, Harrison Twp Day\, and more. Officials will be present to report township information. We hope that you can join us.
URL:https://mullicahill.com/event/the-mullica-hill-business-association-for-our-spring-member-meeting/
LOCATION:The American Legion Hall\, 141 N Main Street\, Mullica Hill\, NJ\, 08062\, United States
ATTACH;FMTTYPE=image/webp:https://mullicahill.com/wp-content/uploads/2024/03/spring_member_meeting.webp
END:VEVENT
BEGIN:VEVENT
DTSTART;TZID=America/New_York:20231007T180000
DTEND;TZID=America/New_York:20231007T213000
DTSTAMP:20260421T043940
CREATED:20230908T232122Z
LAST-MODIFIED:20230912T135504Z
UID:10000001-1696701600-1696714200@mullicahill.com
SUMMARY:Mullica Hill Ghost Walk
DESCRIPTION:Mullica Hill’s restless spirits again take center stage on Saturday\, October 7 – 6pm to 9.30pm.\nTours depart every 10 minutes from the Blueplate Pavilion. Tickets are $10 per person. Advanced purchasing is highly recommended as tours fill up fast.\nThis is a fun family event that explores the eerie side of our community history as night descends
URL:https://mullicahill.com/event/mullica-hill-ghost-walk/
LOCATION:BLUEPLATE PAVILION\, 47 South Main Street\, Mullica Hill\, NJ\, 08062\, United States
CATEGORIES:All Events
END:VEVENT
BEGIN:VEVENT
DTSTART;TZID=America/New_York:20230930T090000
DTEND;TZID=America/New_York:20230930T150000
DTSTAMP:20260421T043940
CREATED:20230909T163328Z
LAST-MODIFIED:20230912T135509Z
UID:10000002-1696064400-1696086000@mullicahill.com
SUMMARY:Fall Festival of Antiques
DESCRIPTION:The show will feature quality antiques dealers from throughout the Northeast set up under pavilion cover and on the lawn at the Gloucester County 4-H Fairgrounds – 2\, one mile south of the Yellow Garage Antiques storefront and the downtown historic district. \nThe sale will include antique country and formal furniture\, pottery\, fine art\, glass\, stoneware\, textiles\, quilts\, dolls\, Americana\, jewelry\, clocks\, porcelain\, sterling\, toys\, advertising\, metal-ware\, and much more.
URL:https://mullicahill.com/event/fall-festival-of-antiques/
LOCATION:Gloucester County 4-H Fairgrounds\, 275 Bridgeton Pike\,\, Mullica Hill\, NJ\, 08062\, United States
CATEGORIES:All Events
ATTACH;FMTTYPE=image/jpeg:https://mullicahill.com/wp-content/uploads/2023/09/Fall-Festival-of-Antiques-David-Cohen-e1663693860333.jpg
END:VEVENT
END:VCALENDAR